Package: flowPlots Version: 1.54.0 Command: F:\biocbuild\bbs-3.20-bioc\R\bin\R.exe CMD check --no-multiarch --install=check:flowPlots.install-out.txt --library=F:\biocbuild\bbs-3.20-bioc\R\library --no-vignettes --timings flowPlots_1.54.0.tar.gz StartedAt: 2025-02-04 01:55:24 -0500 (Tue, 04 Feb 2025) EndedAt: 2025-02-04 01:56:08 -0500 (Tue, 04 Feb 2025) EllapsedTime: 44.1 seconds RetCode: 0 Status: OK CheckDir: flowPlots.Rcheck Warnings: 0