Package: flowPlots Version: 1.54.0 Command: F:\biocbuild\bbs-3.20-bioc\R\bin\R.exe CMD INSTALL flowPlots StartedAt: 2025-02-10 15:25:31 -0500 (Mon, 10 Feb 2025) EndedAt: 2025-02-10 15:26:19 -0500 (Mon, 10 Feb 2025) EllapsedTime: 47.5 seconds RetCode: 0 Status: OK