Package: flowSpecs Version: 1.20.0 Command: rm -rf flowSpecs.buildbin-libdir && mkdir flowSpecs.buildbin-libdir && /Users/biocbuild/BBS/utils/build-universal.sh flowSpecs_1.20.0.tar.gz /Library/Frameworks/R.framework/Resources/bin/R flowSpecs.buildbin-libdir StartedAt: 2025-02-05 15:53:10 -0500 (Wed, 05 Feb 2025) EndedAt: 2025-02-05 15:53:23 -0500 (Wed, 05 Feb 2025) EllapsedTime: 12.3 seconds RetCode: 0 Status: OK PackageFile: flowSpecs_1.20.0.tgz PackageFileSize: 4.714 MiB