Package: flowSpecs Version: 1.20.0 Command: /Library/Frameworks/R.framework/Resources/bin/R CMD build --keep-empty-dirs --no-resave-data flowSpecs StartedAt: 2025-02-10 23:55:10 -0500 (Mon, 10 Feb 2025) EndedAt: 2025-02-10 23:55:45 -0500 (Mon, 10 Feb 2025) EllapsedTime: 35.2 seconds RetCode: 0 Status: OK PackageFile: flowSpecs_1.20.0.tar.gz PackageFileSize: 4.663 MiB