Package: flowSpecs Version: 1.20.0 Command: F:\biocbuild\bbs-3.20-bioc\R\bin\R.exe CMD check --no-multiarch --install=check:flowSpecs.install-out.txt --library=F:\biocbuild\bbs-3.20-bioc\R\library --no-vignettes --timings flowSpecs_1.20.0.tar.gz StartedAt: 2025-02-04 01:55:57 -0500 (Tue, 04 Feb 2025) EndedAt: 2025-02-04 01:57:47 -0500 (Tue, 04 Feb 2025) EllapsedTime: 110.3 seconds RetCode: 0 Status: OK CheckDir: flowSpecs.Rcheck Warnings: 0