Package: flowStats Version: 4.18.0 Command: rm -rf flowStats.buildbin-libdir && mkdir flowStats.buildbin-libdir && /Users/biocbuild/BBS/utils/build-universal.sh flowStats_4.18.0.tar.gz /Library/Frameworks/R.framework/Resources/bin/R flowStats.buildbin-libdir StartedAt: 2025-02-05 15:53:14 -0500 (Wed, 05 Feb 2025) EndedAt: 2025-02-05 15:53:45 -0500 (Wed, 05 Feb 2025) EllapsedTime: 31.6 seconds RetCode: 0 Status: OK PackageFile: flowStats_4.18.0.tgz PackageFileSize: 11.7 MiB