Package: flowStats Version: 4.18.0 Command: /Library/Frameworks/R.framework/Resources/bin/R CMD build --keep-empty-dirs --no-resave-data flowStats StartedAt: 2025-02-03 23:45:43 -0500 (Mon, 03 Feb 2025) EndedAt: 2025-02-03 23:47:53 -0500 (Mon, 03 Feb 2025) EllapsedTime: 129.9 seconds RetCode: 0 Status: OK PackageFile: flowStats_4.18.0.tar.gz PackageFileSize: 10.96 MiB