Package: flowStats Version: 4.18.0 Command: /Library/Frameworks/R.framework/Resources/bin/R CMD check --install=check:flowStats.install-out.txt --library=/Library/Frameworks/R.framework/Resources/library --no-vignettes --timings flowStats_4.18.0.tar.gz StartedAt: 2025-02-04 20:05:58 -0500 (Tue, 04 Feb 2025) EndedAt: 2025-02-04 20:09:35 -0500 (Tue, 04 Feb 2025) EllapsedTime: 217.0 seconds RetCode: 0 Status: WARNINGS CheckDir: flowStats.Rcheck Warnings: 4