Package: flowStats Version: 4.18.0 Command: /Library/Frameworks/R.framework/Resources/bin/R CMD INSTALL flowStats StartedAt: 2025-02-03 18:20:32 -0500 (Mon, 03 Feb 2025) EndedAt: 2025-02-03 18:21:01 -0500 (Mon, 03 Feb 2025) EllapsedTime: 28.8 seconds RetCode: 0 Status: OK