Package: flowStats Version: 4.18.0 Command: /Library/Frameworks/R.framework/Resources/bin/R CMD build --keep-empty-dirs --no-resave-data flowStats StartedAt: 2025-02-10 18:57:06 -0500 (Mon, 10 Feb 2025) EndedAt: 2025-02-10 19:00:52 -0500 (Mon, 10 Feb 2025) EllapsedTime: 226.1 seconds RetCode: 0 Status: OK PackageFile: flowStats_4.18.0.tar.gz PackageFileSize: 10.96 MiB