Package: flowStats Version: 4.18.0 Command: /Library/Frameworks/R.framework/Resources/bin/R CMD INSTALL flowStats StartedAt: 2025-02-10 16:43:36 -0500 (Mon, 10 Feb 2025) EndedAt: 2025-02-10 16:44:30 -0500 (Mon, 10 Feb 2025) EllapsedTime: 54.9 seconds RetCode: 0 Status: OK