Package: flowStats Version: 4.18.0 Command: /home/biocbuild/bbs-3.20-bioc/R/bin/R CMD build --keep-empty-dirs --no-resave-data --md5 flowStats StartedAt: 2025-02-03 17:27:50 -0500 (Mon, 03 Feb 2025) EndedAt: 2025-02-03 17:29:24 -0500 (Mon, 03 Feb 2025) EllapsedTime: 94.1 seconds RetCode: 0 Status: OK PackageFile: flowStats_4.18.0.tar.gz PackageFileSize: 10.96 MiB