Package: flowStats Version: 4.18.0 Command: /home/biocbuild/bbs-3.20-bioc/R/bin/R CMD INSTALL flowStats StartedAt: 2025-02-03 16:11:03 -0500 (Mon, 03 Feb 2025) EndedAt: 2025-02-03 16:11:28 -0500 (Mon, 03 Feb 2025) EllapsedTime: 25.3 seconds RetCode: 0 Status: OK