Package: flowStats Version: 4.18.0 Command: /home/biocbuild/R/R/bin/R CMD build --keep-empty-dirs --no-resave-data flowStats StartedAt: 2025-02-03 23:40:56 -0000 (Mon, 03 Feb 2025) EndedAt: 2025-02-03 23:43:06 -0000 (Mon, 03 Feb 2025) EllapsedTime: 130.1 seconds RetCode: 0 Status: OK PackageFile: flowStats_4.18.0.tar.gz PackageFileSize: 10.96 MiB