Package: flowViz Version: 1.70.0 Command: /home/biocbuild/R/R/bin/R CMD INSTALL flowViz StartedAt: 2024-11-19 20:40:16 -0000 (Tue, 19 Nov 2024) EndedAt: 2024-11-19 20:40:32 -0000 (Tue, 19 Nov 2024) EllapsedTime: 16.4 seconds RetCode: 0 Status: OK