Package: flowViz Version: 1.70.0 Command: /Library/Frameworks/R.framework/Resources/bin/R CMD INSTALL flowViz StartedAt: 2025-01-30 15:23:32 -0500 (Thu, 30 Jan 2025) EndedAt: 2025-01-30 15:24:00 -0500 (Thu, 30 Jan 2025) EllapsedTime: 28.5 seconds RetCode: 0 Status: OK