Package: flowViz Version: 1.70.0 Command: rm -rf flowViz.buildbin-libdir && mkdir flowViz.buildbin-libdir && F:\biocbuild\bbs-3.20-bioc\R\bin\R.exe CMD INSTALL --build --library=flowViz.buildbin-libdir flowViz_1.70.0.tar.gz StartedAt: 2025-02-04 08:31:12 -0500 (Tue, 04 Feb 2025) EndedAt: 2025-02-04 08:31:42 -0500 (Tue, 04 Feb 2025) EllapsedTime: 29.7 seconds RetCode: 0 Status: OK PackageFile: flowViz_1.70.0.zip PackageFileSize: 953.6 KiB