Package: flowViz Version: 1.70.0 Command: chmod a+r flowViz -R && F:\biocbuild\bbs-3.20-bioc\R\bin\R.exe CMD build --keep-empty-dirs --no-resave-data flowViz StartedAt: 2025-01-30 19:00:30 -0500 (Thu, 30 Jan 2025) EndedAt: 2025-01-30 19:08:15 -0500 (Thu, 30 Jan 2025) EllapsedTime: 465.3 seconds RetCode: 0 Status: OK PackageFile: flowViz_1.70.0.tar.gz PackageFileSize: 661.9 KiB