Package: flowViz Version: 1.70.0 Command: F:\biocbuild\bbs-3.20-bioc\R\bin\R.exe CMD INSTALL flowViz StartedAt: 2025-01-30 15:44:48 -0500 (Thu, 30 Jan 2025) EndedAt: 2025-01-30 15:45:20 -0500 (Thu, 30 Jan 2025) EllapsedTime: 32.2 seconds RetCode: 0 Status: OK