Package: flowWorkspace Version: 4.18.0 Command: /home/biocbuild/bbs-3.20-bioc/R/bin/R CMD check --install=check:flowWorkspace.install-out.txt --library=/home/biocbuild/bbs-3.20-bioc/R/site-library --timings flowWorkspace_4.18.0.tar.gz StartedAt: 2025-02-03 22:28:17 -0500 (Mon, 03 Feb 2025) EndedAt: 2025-02-03 22:31:38 -0500 (Mon, 03 Feb 2025) EllapsedTime: 201.3 seconds RetCode: 0 Status: WARNINGS CheckDir: flowWorkspace.Rcheck Warnings: 5