Package: flowWorkspace Version: 4.18.0 Command: chmod a+r flowWorkspace -R && F:\biocbuild\bbs-3.20-bioc\R\bin\R.exe CMD build --keep-empty-dirs --no-resave-data flowWorkspace StartedAt: 2025-02-03 19:15:47 -0500 (Mon, 03 Feb 2025) EndedAt: 2025-02-03 19:20:30 -0500 (Mon, 03 Feb 2025) EllapsedTime: 283.7 seconds RetCode: 1 Status: ERROR PackageFile: None PackageFileSize: NA