Package: flowWorkspace Version: 4.18.0 Command: F:\biocbuild\bbs-3.20-bioc\R\bin\R.exe CMD INSTALL flowWorkspace StartedAt: 2025-02-10 16:04:55 -0500 (Mon, 10 Feb 2025) EndedAt: 2025-02-10 16:07:19 -0500 (Mon, 10 Feb 2025) EllapsedTime: 143.7 seconds RetCode: 1 Status: ERROR