Package: flowWorkspace Version: 4.18.0 Command: /home/biocbuild/R/R/bin/R CMD check --install=check:flowWorkspace.install-out.txt --library=/home/biocbuild/R/R/site-library --no-vignettes --timings flowWorkspace_4.18.0.tar.gz StartedAt: 2025-02-11 06:18:44 -0000 (Tue, 11 Feb 2025) EndedAt: 2025-02-11 06:22:20 -0000 (Tue, 11 Feb 2025) EllapsedTime: 215.3 seconds RetCode: 0 Status: WARNINGS CheckDir: flowWorkspace.Rcheck Warnings: 5