Package: flowcatchR Version: 1.40.0 Command: /Library/Frameworks/R.framework/Resources/bin/R CMD check --install=check:flowcatchR.install-out.txt --library=/Library/Frameworks/R.framework/Resources/library --no-vignettes --timings flowcatchR_1.40.0.tar.gz StartedAt: 2025-01-31 03:57:41 -0500 (Fri, 31 Jan 2025) EndedAt: 2025-01-31 04:00:02 -0500 (Fri, 31 Jan 2025) EllapsedTime: 140.6 seconds RetCode: 0 Status: OK CheckDir: flowcatchR.Rcheck Warnings: 0