Package: flowcatchR Version: 1.40.0 Command: /Library/Frameworks/R.framework/Resources/bin/R CMD INSTALL flowcatchR StartedAt: 2025-02-03 16:04:27 -0500 (Mon, 03 Feb 2025) EndedAt: 2025-02-03 16:04:48 -0500 (Mon, 03 Feb 2025) EllapsedTime: 21.4 seconds RetCode: 0 Status: OK