Package: flowcatchR Version: 1.40.0 Command: /home/biocbuild/bbs-3.20-bioc/R/bin/R CMD INSTALL flowcatchR StartedAt: 2025-01-30 15:33:29 -0500 (Thu, 30 Jan 2025) EndedAt: 2025-01-30 15:33:38 -0500 (Thu, 30 Jan 2025) EllapsedTime: 9.5 seconds RetCode: 0 Status: OK