Package: flowcatchR Version: 1.40.0 Command: /home/biocbuild/R/R/bin/R CMD check --install=check:flowcatchR.install-out.txt --library=/home/biocbuild/R/R/site-library --no-vignettes --timings flowcatchR_1.40.0.tar.gz StartedAt: 2025-01-31 06:18:24 -0000 (Fri, 31 Jan 2025) EndedAt: 2025-01-31 06:19:38 -0000 (Fri, 31 Jan 2025) EllapsedTime: 74.1 seconds RetCode: 0 Status: OK CheckDir: flowcatchR.Rcheck Warnings: 0