Package: flowcatchR Version: 1.40.0 Command: /home/biocbuild/R/R/bin/R CMD INSTALL flowcatchR StartedAt: 2025-01-30 20:41:50 -0000 (Thu, 30 Jan 2025) EndedAt: 2025-01-30 20:42:01 -0000 (Thu, 30 Jan 2025) EllapsedTime: 11.8 seconds RetCode: 0 Status: OK