Package: fmcsR Version: 1.48.0 Command: rm -rf fmcsR.buildbin-libdir && mkdir fmcsR.buildbin-libdir && /Users/biocbuild/BBS/utils/build-universal.sh fmcsR_1.48.0.tar.gz /Library/Frameworks/R.framework/Resources/bin/R fmcsR.buildbin-libdir StartedAt: 2025-02-04 12:58:10 -0500 (Tue, 04 Feb 2025) EndedAt: 2025-02-04 12:59:03 -0500 (Tue, 04 Feb 2025) EllapsedTime: 52.8 seconds RetCode: 0 Status: OK PackageFile: fmcsR_1.48.0.tgz PackageFileSize: 1023 KiB