Package: fmcsR Version: 1.48.0 Command: /Library/Frameworks/R.framework/Resources/bin/R CMD build --keep-empty-dirs --no-resave-data fmcsR StartedAt: 2025-02-03 19:01:12 -0500 (Mon, 03 Feb 2025) EndedAt: 2025-02-03 19:02:50 -0500 (Mon, 03 Feb 2025) EllapsedTime: 98.8 seconds RetCode: 0 Status: OK PackageFile: fmcsR_1.48.0.tar.gz PackageFileSize: 871 KiB