Package: fmcsR Version: 1.48.0 Command: /home/biocbuild/bbs-3.20-bioc/R/bin/R CMD build --keep-empty-dirs --no-resave-data --md5 fmcsR StartedAt: 2025-02-10 17:20:44 -0500 (Mon, 10 Feb 2025) EndedAt: 2025-02-10 17:21:25 -0500 (Mon, 10 Feb 2025) EllapsedTime: 41.0 seconds RetCode: 0 Status: OK PackageFile: fmcsR_1.48.0.tar.gz PackageFileSize: 809.2 KiB