Package: fmcsR Version: 1.48.0 Command: /home/biocbuild/bbs-3.20-bioc/R/bin/R CMD check --install=check:fmcsR.install-out.txt --library=/home/biocbuild/bbs-3.20-bioc/R/site-library --timings fmcsR_1.48.0.tar.gz StartedAt: 2025-02-03 22:28:17 -0500 (Mon, 03 Feb 2025) EndedAt: 2025-02-03 22:29:34 -0500 (Mon, 03 Feb 2025) EllapsedTime: 77.1 seconds RetCode: 0 Status: WARNINGS CheckDir: fmcsR.Rcheck Warnings: 1