Package: fmcsR Version: 1.48.0 Command: /home/biocbuild/bbs-3.20-bioc/R/bin/R CMD INSTALL fmcsR StartedAt: 2025-02-03 16:03:59 -0500 (Mon, 03 Feb 2025) EndedAt: 2025-02-03 16:04:19 -0500 (Mon, 03 Feb 2025) EllapsedTime: 20.3 seconds RetCode: 0 Status: OK