Package: fmcsR Version: 1.48.0 Command: /home/biocbuild/R/R/bin/R CMD build --keep-empty-dirs --no-resave-data fmcsR StartedAt: 2025-02-03 23:41:28 -0000 (Mon, 03 Feb 2025) EndedAt: 2025-02-03 23:42:23 -0000 (Mon, 03 Feb 2025) EllapsedTime: 55.0 seconds RetCode: 0 Status: OK PackageFile: fmcsR_1.48.0.tar.gz PackageFileSize: 624.5 KiB