Package: fmcsR Version: 1.48.0 Command: /home/biocbuild/R/R/bin/R CMD INSTALL fmcsR StartedAt: 2025-02-03 21:18:03 -0000 (Mon, 03 Feb 2025) EndedAt: 2025-02-03 21:18:27 -0000 (Mon, 03 Feb 2025) EllapsedTime: 24.2 seconds RetCode: 0 Status: OK