Package: fmrs Version: 1.16.0 Command: /Library/Frameworks/R.framework/Resources/bin/R CMD check --install=check:fmrs.install-out.txt --library=/Library/Frameworks/R.framework/Resources/library --no-vignettes --timings fmrs_1.16.0.tar.gz StartedAt: 2025-02-04 20:09:35 -0500 (Tue, 04 Feb 2025) EndedAt: 2025-02-04 20:10:31 -0500 (Tue, 04 Feb 2025) EllapsedTime: 56.5 seconds RetCode: 0 Status: OK CheckDir: fmrs.Rcheck Warnings: 0