Package: fmrs Version: 1.16.0 Command: /Library/Frameworks/R.framework/Resources/bin/R CMD INSTALL fmrs StartedAt: 2025-02-10 17:12:33 -0500 (Mon, 10 Feb 2025) EndedAt: 2025-02-10 17:12:45 -0500 (Mon, 10 Feb 2025) EllapsedTime: 11.7 seconds RetCode: 0 Status: OK