Package: fobitools Version: 1.14.0 Command: /home/biocbuild/bbs-3.20-bioc/R/bin/R CMD check --install=check:fobitools.install-out.txt --library=/home/biocbuild/bbs-3.20-bioc/R/site-library --timings fobitools_1.14.0.tar.gz StartedAt: 2025-02-03 22:28:31 -0500 (Mon, 03 Feb 2025) EndedAt: 2025-02-03 22:33:02 -0500 (Mon, 03 Feb 2025) EllapsedTime: 271.3 seconds RetCode: 0 Status: OK CheckDir: fobitools.Rcheck Warnings: 0