Package: fobitools Version: 1.14.0 Command: /home/biocbuild/R/R/bin/R CMD build --keep-empty-dirs --no-resave-data fobitools StartedAt: 2025-02-03 23:41:41 -0000 (Mon, 03 Feb 2025) EndedAt: 2025-02-03 23:43:13 -0000 (Mon, 03 Feb 2025) EllapsedTime: 92.0 seconds RetCode: 0 Status: OK PackageFile: fobitools_1.14.0.tar.gz PackageFileSize: 3.45 MiB