Package: frenchFISH Version: 1.18.0 Command: /Library/Frameworks/R.framework/Resources/bin/R CMD build --keep-empty-dirs --no-resave-data frenchFISH StartedAt: 2025-02-03 23:49:37 -0500 (Mon, 03 Feb 2025) EndedAt: 2025-02-03 23:49:45 -0500 (Mon, 03 Feb 2025) EllapsedTime: 8.1 seconds RetCode: 0 Status: OK PackageFile: frenchFISH_1.18.0.tar.gz PackageFileSize: 20.93 KiB