Package: frenchFISH Version: 1.18.0 Command: /Library/Frameworks/R.framework/Resources/bin/R CMD INSTALL frenchFISH StartedAt: 2025-01-30 17:25:37 -0500 (Thu, 30 Jan 2025) EndedAt: 2025-01-30 17:25:39 -0500 (Thu, 30 Jan 2025) EllapsedTime: 2.3 seconds RetCode: 0 Status: OK