Package: frenchFISH Version: 1.18.0 Command: /home/biocbuild/bbs-3.20-bioc/R/bin/R CMD build --keep-empty-dirs --no-resave-data --md5 frenchFISH StartedAt: 2025-02-03 17:28:23 -0500 (Mon, 03 Feb 2025) EndedAt: 2025-02-03 17:28:28 -0500 (Mon, 03 Feb 2025) EllapsedTime: 5.0 seconds RetCode: 0 Status: OK PackageFile: frenchFISH_1.18.0.tar.gz PackageFileSize: 21.79 KiB