Package: frenchFISH Version: 1.18.0 Command: /home/biocbuild/bbs-3.20-bioc/R/bin/R CMD check --install=check:frenchFISH.install-out.txt --library=/home/biocbuild/bbs-3.20-bioc/R/site-library --timings frenchFISH_1.18.0.tar.gz StartedAt: 2025-02-03 22:28:39 -0500 (Mon, 03 Feb 2025) EndedAt: 2025-02-03 22:29:02 -0500 (Mon, 03 Feb 2025) EllapsedTime: 23.0 seconds RetCode: 0 Status: OK CheckDir: frenchFISH.Rcheck Warnings: 0