Package: frenchFISH Version: 1.18.0 Command: /home/biocbuild/bbs-3.20-bioc/R/bin/R CMD INSTALL frenchFISH StartedAt: 2025-02-03 15:53:53 -0500 (Mon, 03 Feb 2025) EndedAt: 2025-02-03 15:53:54 -0500 (Mon, 03 Feb 2025) EllapsedTime: 1.6 seconds RetCode: 0 Status: OK