Package: frenchFISH Version: 1.18.0 Command: chmod a+r frenchFISH -R && F:\biocbuild\bbs-3.20-bioc\R\bin\R.exe CMD build --keep-empty-dirs --no-resave-data frenchFISH StartedAt: 2025-02-03 19:16:36 -0500 (Mon, 03 Feb 2025) EndedAt: 2025-02-03 19:16:46 -0500 (Mon, 03 Feb 2025) EllapsedTime: 10.2 seconds RetCode: 0 Status: OK PackageFile: frenchFISH_1.18.0.tar.gz PackageFileSize: 21.12 KiB