Package: frenchFISH Version: 1.18.0 Command: /home/biocbuild/R/R/bin/R CMD check --install=check:frenchFISH.install-out.txt --library=/home/biocbuild/R/R/site-library --no-vignettes --timings frenchFISH_1.18.0.tar.gz StartedAt: 2025-02-04 07:06:50 -0000 (Tue, 04 Feb 2025) EndedAt: 2025-02-04 07:07:11 -0000 (Tue, 04 Feb 2025) EllapsedTime: 21.0 seconds RetCode: 0 Status: OK CheckDir: frenchFISH.Rcheck Warnings: 0