Package: frma Version: 1.58.0 Command: /home/biocbuild/R/R/bin/R CMD build --keep-empty-dirs --no-resave-data frma StartedAt: 2024-11-20 00:48:00 -0000 (Wed, 20 Nov 2024) EndedAt: 2024-11-20 00:49:21 -0000 (Wed, 20 Nov 2024) EllapsedTime: 81.1 seconds RetCode: 0 Status: OK PackageFile: frma_1.58.0.tar.gz PackageFileSize: 278.6 KiB