Package: frma Version: 1.58.0 Command: /home/biocbuild/bbs-3.20-bioc/R/bin/R CMD INSTALL frma StartedAt: 2025-02-03 15:25:50 -0500 (Mon, 03 Feb 2025) EndedAt: 2025-02-03 15:26:17 -0500 (Mon, 03 Feb 2025) EllapsedTime: 27.6 seconds RetCode: 0 Status: OK