Package: frma Version: 1.58.0 Command: rm -rf frma.buildbin-libdir && mkdir frma.buildbin-libdir && F:\biocbuild\bbs-3.20-bioc\R\bin\R.exe CMD INSTALL --build --library=frma.buildbin-libdir frma_1.58.0.tar.gz StartedAt: 2025-02-04 08:31:31 -0500 (Tue, 04 Feb 2025) EndedAt: 2025-02-04 08:32:15 -0500 (Tue, 04 Feb 2025) EllapsedTime: 44.3 seconds RetCode: 0 Status: OK PackageFile: frma_1.58.0.zip PackageFileSize: 597.9 KiB