Package: frma Version: 1.58.0 Command: chmod a+r frma -R && F:\biocbuild\bbs-3.20-bioc\R\bin\R.exe CMD build --keep-empty-dirs --no-resave-data frma StartedAt: 2025-02-03 19:16:46 -0500 (Mon, 03 Feb 2025) EndedAt: 2025-02-03 19:18:04 -0500 (Mon, 03 Feb 2025) EllapsedTime: 78.5 seconds RetCode: 0 Status: OK PackageFile: frma_1.58.0.tar.gz PackageFileSize: 148.8 KiB